BEGIN:VCALENDAR
VERSION:2.0
PRODID:-//eventon.com NONSGML v1.0//EN
CALSCALE:GREGORIAN
METHOD:PUBLISH
BEGIN:VEVENT
UID:69e6cf812d6f0
DTSTAMP:20260421T031441
DTSTART:20240225
DTEND:20240226
TZID:Europe/London
LOCATION:
SUMMARY:Journée Régionale Para Futsal Adapté - Chambéry / La Motte Servolex (73)
DESCRIPTION:Journée Régionale Para Futsal Adapté - Chambéry / La Motte Servolex (73)\nhttps://sportadapte-aura.fr/events/journee-regionale-para-futsal-adapte-chambery-la-motte-servolex-73/
URL:https://sportadapte-aura.fr/events/journee-regionale-para-futsal-adapte-chambery-la-motte-servolex-73/
END:VEVENT
END:VCALENDAR