BEGIN:VCALENDAR
VERSION:2.0
PRODID:-//eventon.com NONSGML v1.0//EN
CALSCALE:GREGORIAN
METHOD:PUBLISH
BEGIN:VEVENT
UID:69e66d49c70eb
DTSTAMP:20260420T201537
DTSTART:20231209
DTEND:20231211
TZID:Europe/Paris
LOCATION:
SUMMARY:Championnat Régional Para Judo Adapté - Die (26)
DESCRIPTION:Championnat Régional Para Judo Adapté - Die (26)\nhttps://sportadapte-aura.fr/events/championnat-regional-para-judo-adapte-die-26/
URL:https://sportadapte-aura.fr/events/championnat-regional-para-judo-adapte-die-26/
END:VEVENT
END:VCALENDAR