BEGIN:VCALENDAR
VERSION:2.0
PRODID:-//eventon.com NONSGML v1.0//EN
CALSCALE:GREGORIAN
METHOD:PUBLISH
BEGIN:VEVENT
UID:69ecfc20b6aeb
DTSTAMP:20260425T193840
DTSTART:20240127
DTEND:20240128
TZID:Pacific/Midway
LOCATION:
SUMMARY:Championnat Régional Para Ski Nordique Adapté - La Féclaz (73)
DESCRIPTION:Championnat Régional Para Ski Nordique Adapté - La Féclaz (73)\nhttps://sportadapte-aura.fr/events/championnat-regional-para-ski-nordique-adapte-la-feclaz-73/
URL:https://sportadapte-aura.fr/events/championnat-regional-para-ski-nordique-adapte-la-feclaz-73/
END:VEVENT
END:VCALENDAR