BEGIN:VCALENDAR
VERSION:2.0
PRODID:-//eventon.com NONSGML v1.0//EN
CALSCALE:GREGORIAN
METHOD:PUBLISH
BEGIN:VEVENT
UID:69e5ad377b358
DTSTAMP:20260420T063607
DTSTART:20240914
DTEND:20240916
TZID:Europe/Paris
LOCATION:
SUMMARY:Virtus Open Time Trial / Contre La Montre Challenge Sport Adapté
DESCRIPTION:Le CDSA 38 et La Tronche Vélo Sport organisent le 1er Contre la Montre en Sport Adapté. Il est organisé en inclusion avec le Contre la Montre des Chambarans et est ouvert à l&rsquo;international. Des cyclistes de la région comme Ange Richiero (38) seront présents sur cette compétition.\nhttps://sportadapte-aura.fr/events/contrelamontrechallengesportadapte/
URL:https://sportadapte-aura.fr/events/contrelamontrechallengesportadapte/
END:VEVENT
END:VCALENDAR