BEGIN:VCALENDAR
VERSION:2.0
PRODID:-//eventon.com NONSGML v1.0//EN
CALSCALE:GREGORIAN
METHOD:PUBLISH
BEGIN:VEVENT
UID:69ea4dcfc2a6a
DTSTAMP:20260423T185023
DTSTART:20220305
DTEND:20220306
TZID:Pacific/Midway
LOCATION:
SUMMARY:ara Football Adapté [adultes] – Phase 2 - Journée 2 – zone Ouest - Ruoms (07)
DESCRIPTION:ara Football Adapté [adultes] – Phase 2 - Journée 2 – zone Ouest - Ruoms (07)\nhttps://sportadapte-aura.fr/events/foot-adultes-journee-1-phase-2-zone-07-26-42-43-63-aubenas-07/
URL:https://sportadapte-aura.fr/events/foot-adultes-journee-1-phase-2-zone-07-26-42-43-63-aubenas-07/
END:VEVENT
END:VCALENDAR