BEGIN:VCALENDAR
VERSION:2.0
PRODID:-//eventon.com NONSGML v1.0//EN
CALSCALE:GREGORIAN
METHOD:PUBLISH
BEGIN:VEVENT
UID:69e73c87d1f6c
DTSTAMP:20260421T105951
DTSTART:20220402
DTEND:20220403
TZID:Pacific/Midway
LOCATION:
SUMMARY:Para Football Adapté [adultes] - Phase 2 - Journée 4 – toutes zones - Saint-Etienne (42)
DESCRIPTION:Para Football Adapté [adultes] - Phase 2 - Journée 4 – toutes zones - Saint-Etienne (42)\nhttps://sportadapte-aura.fr/events/foot-adultes-journee-1-phase-3-saint-etienne-42/
URL:https://sportadapte-aura.fr/events/foot-adultes-journee-1-phase-3-saint-etienne-42/
END:VEVENT
END:VCALENDAR