BEGIN:VCALENDAR
VERSION:2.0
PRODID:-//eventon.com NONSGML v1.0//EN
CALSCALE:GREGORIAN
METHOD:PUBLISH
BEGIN:VEVENT
UID:69eae841bec5c
DTSTAMP:20260424T054921
DTSTART:20230114
DTEND:20230116
TZID:Europe/Paris
LOCATION:
SUMMARY:Championnat Régional Para Judo Adapté - Neuville-sur-Saône (69)
DESCRIPTION:Championnat Régional Para Judo Adapté - Neuville-sur-Saône (69)\nhttps://sportadapte-aura.fr/events/championnat-regional-para-judo-adapte-neuville-sur-saone-69/
URL:https://sportadapte-aura.fr/events/championnat-regional-para-judo-adapte-neuville-sur-saone-69/
END:VEVENT
END:VCALENDAR