BEGIN:VCALENDAR
VERSION:2.0
PRODID:-//eventon.com NONSGML v1.0//EN
CALSCALE:GREGORIAN
METHOD:PUBLISH
BEGIN:VEVENT
UID:69e617aa35c30
DTSTAMP:20260420T141018
DTSTART:20221119
DTEND:20221121
TZID:Europe/Paris
LOCATION:
SUMMARY:Para Football Adapté [adultes] - Phase 1 - Journée 1 - zone 01/69/74 + 38/73 - Chaponost (69)
DESCRIPTION:Para Football Adapté [adultes] - Phase 1 - Journée 1 - zone 01/69/74 + 38/73 - Chaponost (69)\nhttps://sportadapte-aura.fr/events/para-football-adapte-adultes-phase-1-journee-1-zone-01-69-74-38-73-chaponost-69/
URL:https://sportadapte-aura.fr/events/para-football-adapte-adultes-phase-1-journee-1-zone-01-69-74-38-73-chaponost-69/
END:VEVENT
END:VCALENDAR